BEGIN:VCALENDAR
VERSION:2.0
PRODID:-//ΤΕΕ Δωδεκανήσου - ECPv4.9.8//NONSGML v1.0//EN
CALSCALE:GREGORIAN
METHOD:PUBLISH
X-WR-CALNAME:ΤΕΕ Δωδεκανήσου
X-ORIGINAL-URL:https://www.teedod.gr
X-WR-CALDESC:ΤΕΕ Δωδεκανήσου - Εκδηλώσεις
BEGIN:VTIMEZONE
TZID:UTC
BEGIN:STANDARD
TZOFFSETFROM:+0000
TZOFFSETTO:+0000
TZNAME:UTC
DTSTART:20170101T000000
END:STANDARD
END:VTIMEZONE
BEGIN:VEVENT
DTSTART;TZID="UTC":20171114T174500
DTEND;TZID="UTC":20171114T174500
DTSTAMP:20260425T110655
CREATED:20171110T110520Z
LAST-MODIFIED:20180125T115907Z
UID:861-1510681500-1510681500@www.teedod.gr
SUMMARY:Εγκαίνια έκθεσης Πολεμικού Ναυτικού "ΜΕΘ' ΟΡΜΗΣ ΑΚΑΘΕΚΤΟΥ"
DESCRIPTION:Ο Πρόεδρος κ. Αντώνιος Γιαννικουρής και τα μέλη του Διοικητικού Συμβουλίου του Τμήματος AHEPA HJ – 33 Ρόδου\, με την στήριξη του ΤΕΕ τμ. Δωδεκανήσου\, με αφορμή τον εορτασμό του Πολιούχου της Ρόδου\, Αγίου Κωνσταντίνου του Υδραίου\, έχουν την τιμή να σας προσκαλέσουν στα εγκαίνια της ιστορικής έκθεσης του Πολεμικού Ναυτικού: \n«Μεθ’ ορμής ακαθέκτου»  \nτην Τρίτη 14 Νοεμβρίου 2017 και ώρα 17:45\, \nστο “Κατάλυμα της Ισπανίας” Οδός Ιπποτών\, Ρόδος. \nΤην έκθεση θα εγκαινιάσει ο Αρχηγός του Γενικού Επιτελείου Ναυτικού Αντιναύαρχος κ. Νικόλαος Τσούνης Π.Ν. \n
URL:https://www.teedod.gr/event/%ce%b5%ce%b3%ce%ba%ce%b1%ce%af%ce%bd%ce%b9%ce%b1-%ce%ad%ce%ba%ce%b8%ce%b5%cf%83%ce%b7%cf%82-%cf%80%ce%bf%ce%bb%ce%b5%ce%bc%ce%b9%ce%ba%ce%bf%cf%8d-%ce%bd%ce%b1%cf%85%cf%84%ce%b9%ce%ba%ce%bf%cf%8d/
LOCATION:Κατάλυμα της Ισπανίας\, Οδός Ιπποτών\, Ρόδος
CATEGORIES:ΠΑΡΟΥΣΙΑΣΗ
ATTACH;FMTTYPE=image/jpeg:https://www.teedod.gr/wp-content/uploads/2018/01/kyourh_proskliseis_november-e1516880903927.jpg
END:VEVENT
END:VCALENDAR