BEGIN:VCALENDAR
VERSION:2.0
PRODID:-//ΤΕΕ Δωδεκανήσου - ECPv4.9.8//NONSGML v1.0//EN
CALSCALE:GREGORIAN
METHOD:PUBLISH
X-WR-CALNAME:ΤΕΕ Δωδεκανήσου
X-ORIGINAL-URL:https://www.teedod.gr
X-WR-CALDESC:ΤΕΕ Δωδεκανήσου - Εκδηλώσεις
BEGIN:VTIMEZONE
TZID:UTC
BEGIN:STANDARD
TZOFFSETFROM:+0000
TZOFFSETTO:+0000
TZNAME:UTC
DTSTART:20170101T000000
END:STANDARD
END:VTIMEZONE
BEGIN:VEVENT
DTSTART;TZID="UTC":20171103T110000
DTEND;TZID="UTC":20171103T110000
DTSTAMP:20260425T140521
CREATED:20171102T103654Z
LAST-MODIFIED:20180125T110147Z
UID:844-1509706800-1509706800@www.teedod.gr
SUMMARY:Εκδήλωση ΕΚΧΑ & ΤΕΕ : ηλεκτρονική υποβολή διαγραμμάτων του ν.4409/16
DESCRIPTION:  \nΤο Εθνικό Κτηματολόγιο & Χαρτογράφηση Α.Ε.  &  το Τεχνικό Επιμελητήριο Ελλάδος διοργανώνουν ενημερωτική εκδήλωση με θέμα: \n«Ηλεκτρονική υποβολή των διαγραμμάτων του ν.4409/16» \nτην Παρασκευή 3 Νοεμβρίου 2017 και ώρα 11:00. \nΣτο κτίριο του ΤΕΕ τμ. Δωδεκανήσου θα πραγματοποιηθεί online αναμετάδοση μέσω διαδικτύου προκειμένου να παρακολουθήσουν οι ενδιαφερόμενοι συνάδελφοι την εκδήλωση. \nΓια περισσότερες πληροφορίες για την εκδήλωση: http://portal.tee.gr/portal/page/portal/TEE/MyTEE/ekxa \n \n
URL:https://www.teedod.gr/event/%ce%b5%ce%ba%ce%b4%ce%ae%ce%bb%cf%89%cf%83%ce%b7-%ce%b5%ce%ba%cf%87%ce%b1-%cf%84%ce%b5%ce%b5-%ce%b7%ce%bb%ce%b5%ce%ba%cf%84%cf%81%ce%bf%ce%bd%ce%b9%ce%ba%ce%ae-%cf%85%cf%80%ce%bf%ce%b2%ce%bf%ce%bb/
LOCATION:ΤΕΕ Δωδεκανήσου\, Μητροπόλεως 4\, Ρόδος
CATEGORIES:ΤΕΧΝΙΚΗ ΗΜΕΡΙΔΑ
ATTACH;FMTTYPE=image/png:https://www.teedod.gr/wp-content/uploads/2018/01/PROSKLHSH-TEE-EKXA.png
END:VEVENT
END:VCALENDAR