BEGIN:VCALENDAR
VERSION:2.0
PRODID:-//ΤΕΕ Δωδεκανήσου - ECPv4.9.8//NONSGML v1.0//EN
CALSCALE:GREGORIAN
METHOD:PUBLISH
X-WR-CALNAME:ΤΕΕ Δωδεκανήσου
X-ORIGINAL-URL:https://www.teedod.gr
X-WR-CALDESC:ΤΕΕ Δωδεκανήσου - Εκδηλώσεις
BEGIN:VTIMEZONE
TZID:UTC
BEGIN:STANDARD
TZOFFSETFROM:+0000
TZOFFSETTO:+0000
TZNAME:UTC
DTSTART:20180101T000000
END:STANDARD
END:VTIMEZONE
BEGIN:VEVENT
DTSTART;TZID="UTC":20180608T090000
DTEND;TZID="UTC":20180608T140000
DTSTAMP:20260424T192358
CREATED:20180531T095234Z
LAST-MODIFIED:20180531T095234Z
UID:1988-1528448400-1528466400@www.teedod.gr
SUMMARY:Ενημερωτικό Σεμινάριο: «Προσεισμικός Έλεγχος – Παραδείγματα Εφαρμογής» στην Κω
DESCRIPTION: \n  \nΤο Τεχνικό Επιμελητήριο Ελλάδος – Περιφερειακό Τμήμα Δωδεκανήσου\, η Ένωση Μηχανικών Δημοσίων Υπαλλήλων Διπλωματούχων Ανωτάτων Σχολών Δωδ/σου\, σε συνεργασία με τον Οργανισμό Αντισεισμικού Σχεδιασμού & Προστασίας διοργανώνουν την: \nτην Παρασκευή 8 Ιουνίου 2018\, \nΕνημερωτικό Σεμινάριο για Μηχανικούς με θέμα: \n«Προσεισμικός Έλεγχος – Παραδείγματα Εφαρμογής» \nστο Κτίριο του ΕΒΕΔ\, στην Κω\, από τις 09:00 έως τις 14:00 \n  \n \n  \n  \n
URL:https://www.teedod.gr/event/%ce%b5%ce%bd%ce%b7%ce%bc%ce%b5%cf%81%cf%89%cf%84%ce%b9%ce%ba%cf%8c-%cf%83%ce%b5%ce%bc%ce%b9%ce%bd%ce%ac%cf%81%ce%b9%ce%bf-%cf%80%cf%81%ce%bf%cf%83%ce%b5%ce%b9%cf%83%ce%bc%ce%b9%ce%ba%cf%8c-2/
LOCATION:Επιμελητηρίου (ΕΒΕΔ)\, Κως
CATEGORIES:ΣΕΜΙΝΑΡΙΟ
ATTACH;FMTTYPE=image/jpeg:https://www.teedod.gr/wp-content/uploads/2018/05/ΠΡΟΣΚΛΗΣΗ-ΣΕΜΙΝΑΡΙΟ-ΚΩΣ-TEE-ΕΜΔΥΔΑΣ-ΟΑΣΠ.jpg
END:VEVENT
END:VCALENDAR