BEGIN:VCALENDAR
VERSION:2.0
PRODID:-//ΤΕΕ Δωδεκανήσου - ECPv4.9.8//NONSGML v1.0//EN
CALSCALE:GREGORIAN
METHOD:PUBLISH
X-WR-CALNAME:ΤΕΕ Δωδεκανήσου
X-ORIGINAL-URL:https://www.teedod.gr
X-WR-CALDESC:ΤΕΕ Δωδεκανήσου - Εκδηλώσεις
BEGIN:VTIMEZONE
TZID:UTC
BEGIN:STANDARD
TZOFFSETFROM:+0000
TZOFFSETTO:+0000
TZNAME:UTC
DTSTART:20180101T000000
END:STANDARD
END:VTIMEZONE
BEGIN:VEVENT
DTSTART;TZID="UTC":20180426T093000
DTEND;TZID="UTC":20180427T150000
DTSTAMP:20260424T225708
CREATED:20180423T121051Z
LAST-MODIFIED:20180423T121051Z
UID:1756-1524735000-1524841200@www.teedod.gr
SUMMARY:Ενημερωτικό Σεμινάριο: «Προσεισμικός Έλεγχος – Παραδείγματα Εφαρμογής»
DESCRIPTION: \n  \nΤο Τεχνικό Επιμελητήριο Ελλάδος – Περιφερειακό Τμήμα Δωδεκανήσου\, η Ένωση Μηχανικών Δημοσίων Υπαλλήλων Διπλωματούχων Ανωτάτων Σχολών Δωδ/σου σε συνεργασία με τον Οργανισμό Αντισεισμικού Σχεδιασμού & Προστασίας διοργανώνουν την: \nΠέμπτη 26 και την Παρασκευή 27 Απριλίου 2018\, \nΕνημερωτικό Σεμινάριο για Μηχανικούς με θέμα: \n«Προσεισμικός Έλεγχος – Παραδείγματα Εφαρμογής» \nστο Κτήριο του ΤΕΕ\, Μητροπόλεως 4\, από τις 09:30 έως τις 15:00 \n  \nΛόγω μεγάλης Συμμετοχής το Σεμινάριο θα διεξαχθεί 2 ημέρες με κοινό πρόγραμμα: \n \n  \n  \n
URL:https://www.teedod.gr/event/%ce%b5%ce%bd%ce%b7%ce%bc%ce%b5%cf%81%cf%89%cf%84%ce%b9%ce%ba%cf%8c-%cf%83%ce%b5%ce%bc%ce%b9%ce%bd%ce%ac%cf%81%ce%b9%ce%bf-%cf%80%cf%81%ce%bf%cf%83%ce%b5%ce%b9%cf%83%ce%bc%ce%b9%ce%ba%cf%8c/
LOCATION:ΤΕΕ Δωδεκανήσου\, Μητροπόλεως 4\, Ρόδος
CATEGORIES:ΣΕΜΙΝΑΡΙΟ
ATTACH;FMTTYPE=image/png:https://www.teedod.gr/wp-content/uploads/2018/04/ΠΡΟΣΚΛΗΣΗ-ΟΑΣΠ.png
END:VEVENT
END:VCALENDAR