BEGIN:VCALENDAR
VERSION:2.0
PRODID:-//ΤΕΕ Δωδεκανήσου - ECPv4.9.8//NONSGML v1.0//EN
CALSCALE:GREGORIAN
METHOD:PUBLISH
X-WR-CALNAME:ΤΕΕ Δωδεκανήσου
X-ORIGINAL-URL:https://www.teedod.gr
X-WR-CALDESC:ΤΕΕ Δωδεκανήσου - Εκδηλώσεις
BEGIN:VTIMEZONE
TZID:UTC
BEGIN:STANDARD
TZOFFSETFROM:+0000
TZOFFSETTO:+0000
TZNAME:UTC
DTSTART:20190101T000000
END:STANDARD
END:VTIMEZONE
BEGIN:VEVENT
DTSTART;TZID="UTC":20190123T180000
DTEND;TZID="UTC":20190123T180000
DTSTAMP:20260424T063909
CREATED:20190116T125633Z
LAST-MODIFIED:20190122T094654Z
UID:2647-1548266400-1548266400@www.teedod.gr
SUMMARY:Ημερίδα: Νέος Κανονισμός Τεχνολογίας Σκυροδέματος 2016
DESCRIPTION:Το Τεε τμ. Δωδεκανήσου σε συνεργασία με την MARMOLINE και τον Όμιλο ΗΡΑΚΛΗΣ\, σας προσκαλεί στην ημερίδα που διοργανώνει με θέμα: \n\n\n\n“Νέος Κανονισμός Τεχνολογίας Σκυροδέματος 2016”\n\n \nτην Τετάρτη 23/10/2019 και ώρα 18:00\n\n \nστο κτήριο του ΤΕΕ\, Μητροπόλεως 4 \n \n
URL:https://www.teedod.gr/event/%ce%b7%ce%bc%ce%b5%cf%81%ce%af%ce%b4%ce%b1-%ce%bd%ce%ad%ce%bf%cf%82-%ce%ba%ce%b1%ce%bd%ce%bf%ce%bd%ce%b9%cf%83%ce%bc%cf%8c%cf%82-%cf%84%ce%b5%cf%87%ce%bd%ce%bf%ce%bb%ce%bf%ce%b3%ce%af%ce%b1%cf%82/
LOCATION:ΤΕΕ Δωδεκανήσου\, Μητροπόλεως 4\, Ρόδος
CATEGORIES:ΤΕΧΝΙΚΗ ΗΜΕΡΙΔΑ
ATTACH;FMTTYPE=image/jpeg:https://www.teedod.gr/wp-content/uploads/2019/01/15.jpg
END:VEVENT
END:VCALENDAR