BEGIN:VCALENDAR
VERSION:2.0
PRODID:-//ΤΕΕ Δωδεκανήσου - ECPv4.9.8//NONSGML v1.0//EN
CALSCALE:GREGORIAN
METHOD:PUBLISH
X-WR-CALNAME:ΤΕΕ Δωδεκανήσου
X-ORIGINAL-URL:https://www.teedod.gr
X-WR-CALDESC:ΤΕΕ Δωδεκανήσου - Εκδηλώσεις
BEGIN:VTIMEZONE
TZID:UTC
BEGIN:STANDARD
TZOFFSETFROM:+0000
TZOFFSETTO:+0000
TZNAME:UTC
DTSTART:20180101T000000
END:STANDARD
END:VTIMEZONE
BEGIN:VEVENT
DTSTART;TZID="UTC":20181212T100000
DTEND;TZID="UTC":20181212T233000
DTSTAMP:20260424T092714
CREATED:20181206T114706Z
LAST-MODIFIED:20181206T115145Z
UID:2497-1544608800-1544657400@www.teedod.gr
SUMMARY:Ημερίδα TEE για το νέο πληροφοριακό σύστημα e-Άδειες σε Κω
DESCRIPTION:Tο Τεχνικό Επιμελητήριο τμ. Δωδεκανήσου σε συνδιοργάνωση με το Τεχνικό Επιμελητήριο Ελλάδος και το Υπουργείο Περιβάλλοντος και Ενέργειας\, διοργανώνουν στην Κω ενημερωτική-εκπαιδευτική συνάντηση για το νέο πληροφοριακό σύστημα e-Άδειες\, σύμφωνα με την υπ’ αριθμ. ΥΠΕΝ/ΥΠΡΓ/48123/6983/2018 (ΦΕΚ Β’ 3136) Υπουργική Απόφαση «Διαδικασίες ηλεκτρονικής υποβολής\, ελέγχου και έκδοσης των διοικητικών πράξεων του άρθρου 29 του ν.4495/2017 και καθορισμός ηλεκτρονικών υπηρεσιών σύμφωνα με τις διατάξεις του άρθρου 33 του ν.4495/2017». \nΗ ημερίδα – εκδήλωση στην Κω για το\nπληροφοριακό σύστημα «e-Άδειες»\, θα πραγματοποιηθεί την Τετάρτη 12/12/2018 στις 10:00 πμ\,\nστο κτήριο του Επιμελητήριου της Κω (ΕΒΕΔ)\, Μαρμαρωτό \n
URL:https://www.teedod.gr/event/%ce%b7%ce%bc%ce%b5%cf%81%ce%af%ce%b4%ce%b1-tee-%ce%b3%ce%b9%ce%b1-%cf%84%ce%bf-%ce%bd%ce%ad%ce%bf-%cf%80%ce%bb%ce%b7%cf%81%ce%bf%cf%86%ce%bf%cf%81%ce%b9%ce%b1%ce%ba%cf%8c-%cf%83%cf%8d%cf%83%cf%84-3/
LOCATION:Επιμελητήριο της Κω (ΕΒΕΔ)\, Μαρμαρωτό
CATEGORIES:ΗΜΕΡΙΔΑ
ATTACH;FMTTYPE=image/jpeg:https://www.teedod.gr/wp-content/uploads/2018/12/e-ADEIES-KALYMNOS-KOS.jpg
END:VEVENT
END:VCALENDAR