BEGIN:VCALENDAR
VERSION:2.0
PRODID:-//ΤΕΕ Δωδεκανήσου - ECPv4.9.8//NONSGML v1.0//EN
CALSCALE:GREGORIAN
METHOD:PUBLISH
X-WR-CALNAME:ΤΕΕ Δωδεκανήσου
X-ORIGINAL-URL:https://www.teedod.gr
X-WR-CALDESC:ΤΕΕ Δωδεκανήσου - Εκδηλώσεις
BEGIN:VTIMEZONE
TZID:UTC
BEGIN:STANDARD
TZOFFSETFROM:+0000
TZOFFSETTO:+0000
TZNAME:UTC
DTSTART:20180101T000000
END:STANDARD
END:VTIMEZONE
BEGIN:VEVENT
DTSTART;TZID="UTC":20181004T100000
DTEND;TZID="UTC":20181004T150000
DTSTAMP:20260424T155523
CREATED:20180925T081244Z
LAST-MODIFIED:20180925T081330Z
UID:2246-1538647200-1538665200@www.teedod.gr
SUMMARY:Ημερίδα TEE για το νέο πληροφοριακό σύστημα e-Άδειες
DESCRIPTION:Tο Τεχνικό Επιμελητήριο τμ. Δωδεκανήσου σε συνδιοργάνωση με το Τεχνικό Επιμελητήριο Ελλάδος και το Υπουργείο Περιβάλλοντος και Ενέργειας\, διοργανώνουν ενημερωτική-εκπαιδευτική συνάντηση για το νέο πληροφοριακό σύστημα e-Άδειες\, σύμφωνα με την υπ’ αριθμ. ΥΠΕΝ/ΥΠΡΓ/48123/6983/2018 (ΦΕΚ Β’ 3136) Υπουργική Απόφαση «Διαδικασίες ηλεκτρονικής υποβολής\, ελέγχου και έκδοσης των διοικητικών πράξεων του άρθρου 29 του ν.4495/2017 και καθορισμός ηλεκτρονικών υπηρεσιών σύμφωνα με τις διατάξεις του άρθρου 33 του ν.4495/2017». \nΗ ημερίδα – εκδήλωση για το\nπληροφοριακό σύστημα «e-Άδειες»\, θα πραγματοποιηθεί την Πέμπτη 4/10/2018 στις 10:00 πμ\,\nστο κτήριο του Επιμελητήριου Δωδεκανήσου (ΕΒΕΔ)\,\nστην Αίθουσα «Γεώργιος Καραγιάννης»\, Γρηγορίου Λαμπράκη 8. \nΚατά την ημερίδα\, από 10:00 πμ έως 13:00 μμ\, θα διενεργηθεί ανοικτή παρουσίαση και ενημέρωση του συστήματος e-Άδειες και θα ακολουθήσει ανταλλαγή ερωτήσεων και απαντήσεων για την ηλεκτρονική έκδοση αδειών. \nΣτο χρονικό διάστημα από 13:00 μμ έως 15:00 μμ θα γίνει παρουσίαση στα στελέχη του Περιφερειακού Τμήματος (Υπάλληλοι και Μέλη ΔΕ) καθώς και σε συναδέλφους επιφορτισμένους με την υποστήριξη των Υπηρεσιών Δόμησης. \n \n
URL:https://www.teedod.gr/event/%ce%b7%ce%bc%ce%b5%cf%81%ce%af%ce%b4%ce%b1-tee-%ce%b3%ce%b9%ce%b1-%cf%84%ce%bf-%ce%bd%ce%ad%ce%bf-%cf%80%ce%bb%ce%b7%cf%81%ce%bf%cf%86%ce%bf%cf%81%ce%b9%ce%b1%ce%ba%cf%8c-%cf%83%cf%8d%cf%83%cf%84/
LOCATION:Αίθουσα «Γεώργιος Καραγιάννης»\, Επιμελητήριου Δωδεκανήσου (ΕΒΕΔ)\, Γρηγορίου Λαμπράκη 8
CATEGORIES:ΗΜΕΡΙΔΑ
ATTACH;FMTTYPE=image/png:https://www.teedod.gr/wp-content/uploads/2018/09/invitation_e-ADEIES-ΡΟΔΟΣ.png
END:VEVENT
END:VCALENDAR