BEGIN:VCALENDAR
VERSION:2.0
PRODID:-//ΤΕΕ Δωδεκανήσου - ECPv4.9.8//NONSGML v1.0//EN
CALSCALE:GREGORIAN
METHOD:PUBLISH
X-WR-CALNAME:ΤΕΕ Δωδεκανήσου
X-ORIGINAL-URL:https://www.teedod.gr
X-WR-CALDESC:ΤΕΕ Δωδεκανήσου - Εκδηλώσεις
BEGIN:VTIMEZONE
TZID:UTC
BEGIN:STANDARD
TZOFFSETFROM:+0000
TZOFFSETTO:+0000
TZNAME:UTC
DTSTART:20200101T000000
END:STANDARD
END:VTIMEZONE
BEGIN:VEVENT
DTSTART;TZID="UTC":20200219T183000
DTEND;TZID="UTC":20200219T203000
DTSTAMP:20260422T182542
CREATED:20200218T085453Z
LAST-MODIFIED:20200218T085655Z
UID:4896-1582137000-1582144200@www.teedod.gr
SUMMARY:ΤοΤΕΕ Δωδεκανήσου σας προσκαλεί στην εκδήλωση με θέμα: "ΕΝΗΜΕΡΩΣΗ ΚΑΙ ΣΥΖΗΤΗΣΗ ΓΙΑ ΤΗΝ ΕΠΙΚΕΙΜΕΝΗ ΑΝΑΡΤΗΣΗ ΤΩΝ ΔΑΣΙΚΩΝ ΧΑΡΤΩΝ ΣΤΗ ΔΩΔΕΚΑΝΗΣΟ"
DESCRIPTION:Το ΤΕΕ Δωδεκανήσου σας προσκαλεί στην εκδήλωση με θέμα: \n“ΕΝΗΜΕΡΩΣΗ ΚΑΙ ΣΥΖΗΤΗΣΗ ΓΙΑ ΤΗΝ ΕΠΙΚΕΙΜΕΝΗ ΑΝΑΡΤΗΣΗ ΤΩΝ ΔΑΣΙΚΩΝ ΧΑΡΤΩΝ ΣΤΗ ΔΩΔΕΚΑΝΗΣΟ” \nτην Τετάρτη στις 19 Φεβρουαρίου 2020 και ώρα 18.30 \nστο κτήριο του ΤΕΕ Δωδεκανήσου στην Ρόδο\, Μητροπόλεως 4. \nκεντρικός ομιλητής: \nκα. Καίτη Μπαλατσούκα – Διευθύντρια Δασικής Υπηρεσίας\, \n  \n  \n
URL:https://www.teedod.gr/event/%ce%b7-%ce%b4%ce%b9%ce%bf%ce%b9%ce%ba%ce%bf%cf%8d%cf%83%ce%b1-%ce%b5%cf%80%ce%b9%cf%84%cf%81%ce%bf%cf%80%ce%ae-%cf%84%ce%b5%ce%b5-%ce%b4%cf%89%ce%b4%ce%b5%ce%ba%ce%b1%ce%bd%ce%ae%cf%83%ce%bf%cf%85/
LOCATION:ΤΕΕ Δωδεκανήσου\, Μητροπόλεως 4\, Ρόδος
CATEGORIES:ΕΚΔΗΛΩΣΗ
ATTACH;FMTTYPE=image/jpeg:https://www.teedod.gr/wp-content/uploads/2020/02/86495701_1420989748093.jpg
END:VEVENT
END:VCALENDAR