BEGIN:VCALENDAR
VERSION:2.0
PRODID:-//ΤΕΕ Δωδεκανήσου - ECPv4.9.8//NONSGML v1.0//EN
CALSCALE:GREGORIAN
METHOD:PUBLISH
X-WR-CALNAME:ΤΕΕ Δωδεκανήσου
X-ORIGINAL-URL:https://www.teedod.gr
X-WR-CALDESC:ΤΕΕ Δωδεκανήσου - Εκδηλώσεις
BEGIN:VTIMEZONE
TZID:UTC
BEGIN:STANDARD
TZOFFSETFROM:+0000
TZOFFSETTO:+0000
TZNAME:UTC
DTSTART:20190101T000000
END:STANDARD
END:VTIMEZONE
BEGIN:VEVENT
DTSTART;TZID="UTC":20190913T200000
DTEND;TZID="UTC":20190913T210000
DTSTAMP:20260423T084953
CREATED:20190909T091032Z
LAST-MODIFIED:20190911T092813Z
UID:3652-1568404800-1568408400@www.teedod.gr
SUMMARY:Η Διοικούσα Επιτροπή του ΤΕΕ Δωδεκανήσου διοργανώνει στην Ρόδο διάλεξη με θέμα: «Έρευνα και Εκμετάλλευση των Υδρογονανθράκων στην Ανατολική Μεσόγειο-Γεωπολιτική ανάλυση των παράνομων Τουρκικών διεκδικήσεων στην ΑΟΖ της Κύπρου»
DESCRIPTION:Η Διοικούσα Επιτροπή του ΤΕΕ Δωδεκανήσου διοργανώνει διάλεξη με θέμα: \n«Έρευνα και Εκμετάλλευση των Υδρογονανθράκων στην Ανατολική Μεσόγειο-Γεωπολιτική ανάλυση των παράνομων Τουρκικών διεκδικήσεων στην ΑΟΖ της Κύπρου»  \nτην Παρασκευή 13 Σεπτεμβρίου 2019 και ώρα 20.00 \nστο Παλάτι του Μεγάλου Μαγίστρου (Καστέλο) στην Μεσαιωνική Πόλη \n
URL:https://www.teedod.gr/event/%ce%b7-%ce%b4%ce%b9%ce%bf%ce%b9%ce%ba%ce%bf%cf%8d%cf%83%ce%b1-%ce%b5%cf%80%ce%b9%cf%84%cf%81%ce%bf%cf%80%ce%ae-%cf%84%ce%bf%cf%85-%cf%84%ce%b5%ce%b5-%ce%b4%cf%89%ce%b4%ce%b5%ce%ba%ce%b1%ce%bd%ce%ae/
LOCATION:Παλάτι του Μεγάλου Μαγίστρου (Καστέλο)\, ΜΕΣΑΙΩΝΙΚΉ ΠΌΛΗ\, ΡΟΔΟΣ\, ΝΟΜΟΣ ΔΩΔΕΚΑΝΗΣΟΥ\, 85100\, Ελλάδα
CATEGORIES:ΟΜΙΛΙΑ
ATTACH;FMTTYPE=image/png:https://www.teedod.gr/wp-content/uploads/2019/09/1309201-copy.png
END:VEVENT
END:VCALENDAR