BEGIN:VCALENDAR
VERSION:2.0
PRODID:-//ΤΕΕ Δωδεκανήσου - ECPv4.9.8//NONSGML v1.0//EN
CALSCALE:GREGORIAN
METHOD:PUBLISH
X-WR-CALNAME:ΤΕΕ Δωδεκανήσου
X-ORIGINAL-URL:https://www.teedod.gr
X-WR-CALDESC:ΤΕΕ Δωδεκανήσου - Εκδηλώσεις
BEGIN:VTIMEZONE
TZID:UTC
BEGIN:STANDARD
TZOFFSETFROM:+0000
TZOFFSETTO:+0000
TZNAME:UTC
DTSTART:20190101T000000
END:STANDARD
END:VTIMEZONE
BEGIN:VEVENT
DTSTART;TZID="UTC":20190513T183000
DTEND;TZID="UTC":20190513T183000
DTSTAMP:20260423T125111
CREATED:20190507T080516Z
LAST-MODIFIED:20190507T080516Z
UID:3265-1557772200-1557772200@www.teedod.gr
SUMMARY:Η Διοικούσα Επιτροπή του ΤΕΕ-Π.Τ Δωδεκανήσου διοργανώνει ενημερωτική εσπερίδα με θέμα: «Διαχείριση Επικίνδυνων Αποβλήτων Εκσκαφών Κατασκευών & Κατεδαφίσεων (Α.E.K.K.)-Η περίπτωση του αμιάντου»
DESCRIPTION:Η Διοικούσα Επιτροπή του ΤΕΕ-Π.Τ Δωδεκανήσου σε συνεργασία με το Επιμελητήριο Δωδεκανήσου\, τον Ιατρικό Σύλλογο Ρόδου\, τον Δικηγορικό Σύλλογο Ρόδου\, την Διεύθυνση ΠΕ.ΧΩ.ΣΧΕ. Δωδεκανήσου Π.Ν. Αιγαίου και την Suk Hellas Ε.Π.Ε. διοργανώνει ενημερωτική εσπερίδα με θέμα: \n«Διαχείριση Επικίνδυνων Αποβλήτων Εκσκαφών Κατασκευών & Κατεδαφίσεων (Α.E.K.K.) – Η περίπτωση του αμιάντου» \nτην Δευτέρα 13 Μαΐου 2019 και ώρα 18:30\, \nστην Αίθουσα «Γεώργιος Β. Καραγιάννης» του\nΕπιμελητηρίου Δωδεκανήσου (Γρηγορίου Λαμπράκη 8\, Ρόδος) \n
URL:https://www.teedod.gr/event/%ce%b7-%ce%b4%ce%b9%ce%bf%ce%b9%ce%ba%ce%bf%cf%8d%cf%83%ce%b1-%ce%b5%cf%80%ce%b9%cf%84%cf%81%ce%bf%cf%80%ce%ae-%cf%84%ce%bf%cf%85-%cf%84%ce%b5%ce%b5-%cf%80-%cf%84-%ce%b4%cf%89%ce%b4%ce%b5%ce%ba%ce%b1/
LOCATION:Αίθουσα «Γεώργιος Καραγιάννης»\, Επιμελητήριου Δωδεκανήσου (ΕΒΕΔ)\, Γρηγορίου Λαμπράκη 8
CATEGORIES:ΕΣΠΕΡΙΔΑ
ATTACH;FMTTYPE=image/jpeg:https://www.teedod.gr/wp-content/uploads/2019/05/59724487_1173106396214841_7510595609569525760_n.jpg
END:VEVENT
END:VCALENDAR