BEGIN:VCALENDAR
VERSION:2.0
PRODID:-//ΤΕΕ Δωδεκανήσου - ECPv4.9.8//NONSGML v1.0//EN
CALSCALE:GREGORIAN
METHOD:PUBLISH
X-WR-CALNAME:ΤΕΕ Δωδεκανήσου
X-ORIGINAL-URL:https://www.teedod.gr
X-WR-CALDESC:ΤΕΕ Δωδεκανήσου - Εκδηλώσεις
BEGIN:VTIMEZONE
TZID:UTC
BEGIN:STANDARD
TZOFFSETFROM:+0000
TZOFFSETTO:+0000
TZNAME:UTC
DTSTART:20190101T000000
END:STANDARD
END:VTIMEZONE
BEGIN:VEVENT
DTSTART;TZID="UTC":20190928T080000
DTEND;TZID="UTC":20191007T170000
DTSTAMP:20260423T031901
CREATED:20190806T073623Z
LAST-MODIFIED:20190806T073757Z
UID:3513-1569657600-1570467600@www.teedod.gr
SUMMARY:Το Επιμελητηρίο Αρχιτεκτόνων Τουρκίας (CAT)-Τμήμα Μούγλων και το ΤΕΕ-Tμ. Δωδ/σου\, με την υποστήριξη του Συλλόγου Αρχιτεκτόνων Δωδεκανήσου\, προσκαλεί τους αρχιτέκτονες να συμμετάσχουν σε Αρχιτεκτονικό Εργαστήρι
DESCRIPTION:Η Κοινή Επιτροπή για την Ενεργοποίηση του Πρωτοκόλλου Συνεργασίας μεταξύ του Επιμελητηρίου Αρχιτεκτόνων Τουρκίας (CAT) – Τμήμα Μούγλων και του ΤΕΕ- Tμ. Δωδ/σου\, με την υποστήριξη του Συλλόγου Αρχιτεκτόνων Δωδεκανήσου\, προσκαλεί τους αρχιτέκτονες των δύο Επιμελητηρίων να συμμετάσχουν σε Αρχιτεκτονικό Εργαστήρι και Εργαστήρι Ντοκιμαντέρ. \nTα εργαστήρια θα διεξαχθούν στην Τήλο από τις 28/09 έως 03/10/2019. \nΑπό 04/10 έως 07/10/2018 θα λάβει χώρα το αρχιτεκτονικό συνέδριο με θέμα: «Αυτόνομος Τόπος: Αρχιτεκτονική ταυτότητα και ενεργειακή τεχνολογία»\, όπου θα παρουσιαστούν και τα θέματα του workshop (περισσότερες λεπτομέρειες στο αναλυτικό πρόγραμμα του τριημέρου) με επιστροφή στη Ρόδο τη Δευτέρα 07 Οκτωβρίου. \n  \n
URL:https://www.teedod.gr/event/%ce%b7-%ce%ba%ce%bf%ce%b9%ce%bd%ce%ae-%ce%b5%cf%80%ce%b9%cf%84%cf%81%ce%bf%cf%80%ce%ae-%ce%b3%ce%b9%ce%b1-%cf%84%ce%b7%ce%bd-%ce%b5%ce%bd%ce%b5%cf%81%ce%b3%ce%bf%cf%80%ce%bf%ce%af%ce%b7%cf%83%ce%b7/
LOCATION:Τήλος
CATEGORIES:ΣΕΜΙΝΑΡΙΟ,ΣΥΝΕΔΡΙΟ
ATTACH;FMTTYPE=image/png:https://www.teedod.gr/wp-content/uploads/2019/08/1.png
END:VEVENT
END:VCALENDAR