BEGIN:VCALENDAR
VERSION:2.0
PRODID:-//ΤΕΕ Δωδεκανήσου - ECPv4.9.8//NONSGML v1.0//EN
CALSCALE:GREGORIAN
METHOD:PUBLISH
X-WR-CALNAME:ΤΕΕ Δωδεκανήσου
X-ORIGINAL-URL:https://www.teedod.gr
X-WR-CALDESC:ΤΕΕ Δωδεκανήσου - Εκδηλώσεις
BEGIN:VTIMEZONE
TZID:UTC
BEGIN:STANDARD
TZOFFSETFROM:+0000
TZOFFSETTO:+0000
TZNAME:UTC
DTSTART:20190101T000000
END:STANDARD
END:VTIMEZONE
BEGIN:VEVENT
DTSTART;TZID="UTC":20191211T173000
DTEND;TZID="UTC":20191211T190000
DTSTAMP:20260423T005412
CREATED:20191204T083500Z
LAST-MODIFIED:20191204T083500Z
UID:4565-1576085400-1576090800@www.teedod.gr
SUMMARY:Η ELVIAL\, υπό την αιγίδα του ΤΕΕ ΠΤ Δωδεκανήσου\, διοργανώνει συνάντηση με θέμα: «Εξοικονόμηση Ενέργειας»
DESCRIPTION:\nΗ ELVIAL\, υπό την αιγίδα του ΤΕΕ ΠΤ Δωδεκανήσου\, διοργανώνει συνάντηση στη Ρόδο\, \n\n\n\nμε θέμα: «Εξοικονόμηση Ενέργειας \nτην Τετάρτη στις 11 Δεκεμβρίου 2019 και ώρα 17.30\, \nστην αίθουσα της Αντιπροσωπείας του ΤΕΕ Δωδεκανήσου \, \nεπί της οδού Μητροπόλεως 4. \n
URL:https://www.teedod.gr/event/%ce%b7-elvial-%cf%85%cf%80%cf%8c-%cf%84%ce%b7%ce%bd-%ce%b1%ce%b9%ce%b3%ce%af%ce%b4%ce%b1-%cf%84%ce%bf%cf%85-%cf%84%ce%b5%ce%b5-%cf%80%cf%84-%ce%b4%cf%89%ce%b4%ce%b5%ce%ba%ce%b1%ce%bd%ce%ae%cf%83/
LOCATION:ΤΕΕ Δωδεκανήσου\, Μητροπόλεως 4\, Ρόδος
CATEGORIES:ΤΕΧΝΙΚΗ ΣΥΝΑΝΤΗΣΗ
ATTACH;FMTTYPE=image/png:https://www.teedod.gr/wp-content/uploads/2019/12/78596363_1346892338836245_7835663241614196736_o-copy.png
END:VEVENT
END:VCALENDAR