BEGIN:VCALENDAR
VERSION:2.0
PRODID:-//ΤΕΕ Δωδεκανήσου - ECPv4.9.8//NONSGML v1.0//EN
CALSCALE:GREGORIAN
METHOD:PUBLISH
X-WR-CALNAME:ΤΕΕ Δωδεκανήσου
X-ORIGINAL-URL:https://www.teedod.gr
X-WR-CALDESC:ΤΕΕ Δωδεκανήσου - Εκδηλώσεις
BEGIN:VTIMEZONE
TZID:UTC
BEGIN:STANDARD
TZOFFSETFROM:+0000
TZOFFSETTO:+0000
TZNAME:UTC
DTSTART:20180101T000000
END:STANDARD
END:VTIMEZONE
BEGIN:VEVENT
DTSTART;TZID="UTC":20180203T210000
DTEND;TZID="UTC":20180203T210000
DTSTAMP:20260425T023437
CREATED:20180131T102410Z
LAST-MODIFIED:20180216T102153Z
UID:1076-1517691600-1517691600@www.teedod.gr
SUMMARY:Κοπή Πίτας στην Κω
DESCRIPTION:\nΤο ΤΕΕ τμήματος Δωδεκανήσου σας προσκαλεί στην εκδήλωση για την κοπή της Πρωτοχρονιάτικης πίτας  της Μόνιμης Επιτροπής στην Κω που θα πραγματοποιηθεί το Σάββατο 03-02-2018 στις 21.00 στο εστιατόριο “Casa della Pasta”\, Μπουμπουλίνας 2\, Κως.\n\n\nΗ παρουσία σας θα μας τιμήσει ιδιαιτερα!\n\n\n\n
URL:https://www.teedod.gr/event/%ce%ba%ce%bf%cf%80%ce%ae-%cf%80%ce%af%cf%84%ce%b1%cf%82-%cf%83%cf%84%ce%b7%ce%bd-%ce%ba%cf%89/
LOCATION:Casa della Pasta\, Κως\, Μπουμπουλίνας 2\, Κως
CATEGORIES:ΕΣΠΕΡΙΔΑ
ATTACH;FMTTYPE=image/png:https://www.teedod.gr/wp-content/uploads/2018/01/ΠΡΟΣΚΛΗΣΗ-ΚΩΣ.png
END:VEVENT
END:VCALENDAR