BEGIN:VCALENDAR
VERSION:2.0
PRODID:-//ΤΕΕ Δωδεκανήσου - ECPv4.9.8//NONSGML v1.0//EN
CALSCALE:GREGORIAN
METHOD:PUBLISH
X-WR-CALNAME:ΤΕΕ Δωδεκανήσου
X-ORIGINAL-URL:https://www.teedod.gr
X-WR-CALDESC:ΤΕΕ Δωδεκανήσου - Εκδηλώσεις
BEGIN:VTIMEZONE
TZID:UTC
BEGIN:STANDARD
TZOFFSETFROM:+0000
TZOFFSETTO:+0000
TZNAME:UTC
DTSTART:20190101T000000
END:STANDARD
END:VTIMEZONE
BEGIN:VEVENT
DTSTART;TZID="UTC":20190201T210000
DTEND;TZID="UTC":20190201T210000
DTSTAMP:20260424T025932
CREATED:20190131T132642Z
LAST-MODIFIED:20190131T132642Z
UID:2733-1549054800-1549054800@www.teedod.gr
SUMMARY:Κοπή Πρωτοχρονιάτικης Πίτας 2019 της M.E. Kαλύμνου
DESCRIPTION:\n\n\n\nΤο ΤΕΕ Π.Τ. Δωδεκανήσου και το Μ.Ε. Καλύμνου σας εύχονται καλή χρονιά και σας προσκαλούν στην εκδήλωση για την κοπή της Πρωτοχρονιάτικης Πίτας\nτην Παρασκευή 1 Φεβρουαρίου 2019 και ώρα 21.00\, \nστο κέντρο Beluga\, στην Κάλυμνο. \nΗ παρουσία σας θα είναι ιδιαίτερη τιμή για εμάς και την εκδήλωση μας.\n\nΕίσοδος Ελεύθερη.\n\n
URL:https://www.teedod.gr/event/%ce%ba%ce%bf%cf%80%ce%ae-%cf%80%cf%81%cf%89%cf%84%ce%bf%cf%87%cf%81%ce%bf%ce%bd%ce%b9%ce%ac%cf%84%ce%b9%ce%ba%ce%b7%cf%82-%cf%80%ce%af%cf%84%ce%b1%cf%82-2019-%cf%84%ce%b7%cf%82-m-e-k%ce%b1%ce%bb/
LOCATION:Εστιατόριο Beluga\, Κάλυμνος\, Κάλυμνος
CATEGORIES:ΕΣΠΕΡΙΔΑ
ATTACH;FMTTYPE=image/jpeg:https://www.teedod.gr/wp-content/uploads/2019/01/14.01-1.jpg
END:VEVENT
END:VCALENDAR