BEGIN:VCALENDAR
VERSION:2.0
PRODID:-//ΤΕΕ Δωδεκανήσου - ECPv4.9.8//NONSGML v1.0//EN
CALSCALE:GREGORIAN
METHOD:PUBLISH
X-WR-CALNAME:ΤΕΕ Δωδεκανήσου
X-ORIGINAL-URL:https://www.teedod.gr
X-WR-CALDESC:ΤΕΕ Δωδεκανήσου - Εκδηλώσεις
BEGIN:VTIMEZONE
TZID:UTC
BEGIN:STANDARD
TZOFFSETFROM:+0000
TZOFFSETTO:+0000
TZNAME:UTC
DTSTART:20170101T000000
END:STANDARD
END:VTIMEZONE
BEGIN:VEVENT
DTSTART;TZID="UTC":20170915T200000
DTEND;TZID="UTC":20170915T200000
DTSTAMP:20260426T004702
CREATED:20170914T080452Z
LAST-MODIFIED:20180126T082323Z
UID:891-1505505600-1505505600@www.teedod.gr
SUMMARY:Ομιλία για την Γεωστρατηγική Αστάθεια στα Δυτικά Βαλκάνια
DESCRIPTION:  \nΤο ΤΕΕ τμ. Δωδεκανήσου\, στηρίζοντας τις δράσεις συναδέλφων μηχανικών με φιλανθρωπικό χαρακτήρα του τμήματος AHEPA HJ – 33 Ρόδου\, σας προσκαλεί στην ομιλία του Προέδρου τμήματος Τουρκικών σπουδών και Ασιατικών σπουδών Πανεπιστήμιο Αθηνών \nΚαθηγητή Δρα Ιωάννη Θ. Μάζη\, \nμε θέμα: \n“Γεωστρατηγική Αστάθεια στα Δυτικά Βαλκάνια” \nτην Παρασκευή 15 Σεπτεμβρίου\, ώρα 20:00 \nστο Κατάλυμα Ισπανίας (Οδός Ιπποτών\, Ρόδος) \nΗ είσοδος είναι ελεύθερη. \n \n
URL:https://www.teedod.gr/event/%ce%bf%ce%bc%ce%b9%ce%bb%ce%af%ce%b1-%ce%b3%ce%b9%ce%b1-%cf%84%ce%b7%ce%bd-%ce%b3%ce%b5%cf%89%cf%83%cf%84%cf%81%ce%b1%cf%84%ce%b7%ce%b3%ce%b9%ce%ba%ce%ae-%ce%b1%cf%83%cf%84%ce%ac%ce%b8%ce%b5%ce%b9/
LOCATION:Κατάλυμα της Ισπανίας\, Οδός Ιπποτών\, Ρόδος
CATEGORIES:ΠΑΡΟΥΣΙΑΣΗ
ATTACH;FMTTYPE=image/jpeg:https://www.teedod.gr/wp-content/uploads/2018/01/prosklisi_-e1516954854465.jpg
END:VEVENT
END:VCALENDAR