BEGIN:VCALENDAR
VERSION:2.0
PRODID:-//ΤΕΕ Δωδεκανήσου - ECPv4.9.8//NONSGML v1.0//EN
CALSCALE:GREGORIAN
METHOD:PUBLISH
X-WR-CALNAME:ΤΕΕ Δωδεκανήσου
X-ORIGINAL-URL:https://www.teedod.gr
X-WR-CALDESC:ΤΕΕ Δωδεκανήσου - Εκδηλώσεις
BEGIN:VTIMEZONE
TZID:UTC
BEGIN:STANDARD
TZOFFSETFROM:+0000
TZOFFSETTO:+0000
TZNAME:UTC
DTSTART:20200101T000000
END:STANDARD
END:VTIMEZONE
BEGIN:VEVENT
DTSTART;TZID="UTC":20200122T190000
DTEND;TZID="UTC":20200122T210000
DTSTAMP:20260422T210553
CREATED:20200117T090515Z
LAST-MODIFIED:20200117T090515Z
UID:4742-1579719600-1579726800@www.teedod.gr
SUMMARY:Ο Εκδοτικός Οίκος ΜΠΑΡΜΠΟΥΝΑΚΗΣ σας προσκαλεί στην παρουσίαση βιβλίου με τίτλο: «ΤΛΗΠΟΛΕΜΟΣ – ΡΟΔΙΩΝ ΑΡΧΗΓΕΤΗΣ» του Γιάννη Παρασκευά
DESCRIPTION:Ο Εκδοτικός Οίκος ΜΠΑΡΜΠΟΥΝΑΚΗΣ σας προσκαλεί στην εκδήλωση που θα πραγματοποιηθεί \nτην Τετάρτη 22 Ιανουαρίου 2020  στις 7 το απόγευμα \nστο Καφέ RONDA (Έλλη) \nγια την παρουσίαση του βιβλίου του Γιάννη Παρασκευά \nμε τίτλο: «ΤΛΗΠΟΛΕΜΟΣ – ΡΟΔΙΩΝ ΑΡΧΗΓΕΤΗΣ» \n  \nΓια το βιβλίο Θα μιλήσουν: \nΓΕΡΟΥΛΑΝΟΣ ΠΑΥΛΟΣ π. Υπουργός Πολιτισμού \nΜΑΜΕΛΗΣ ΚΩΝΣΤΑΝΤΙΝΟΣ Δικηγόρος-Συγγραφέας \nΝΙΚΟΛΑΟΥ ΝΙΚΟΛΑΟΣ Ηλεκτρολόγος Μηχανικός- Συγγραφέας \n  \nΘα χαιρετίσουν την εκδήλωση: \nΣεβασμιότατος Μητροπολίτης Ρόδου κ.κ. ΚΥΡΙΛΛΟΣ \nΠεριφερειάρχης Νοτίου Αιγαίου ΧΑΤΖΗΜΑΡΚΟΣ ΓΕΩΡΓΙΟΣ \nΔήμαρχος Ροδίων ΚΑΜΠΟΥΡΑΚΗΣ ΑΝΤΩΝΙΟΣ \n
URL:https://www.teedod.gr/event/%ce%bf-%ce%b5%ce%ba%ce%b4%ce%bf%cf%84%ce%b9%ce%ba%cf%8c%cf%82-%ce%bf%ce%af%ce%ba%ce%bf%cf%82-%ce%bc%cf%80%ce%b1%cf%81%ce%bc%cf%80%ce%bf%cf%85%ce%bd%ce%b1%ce%ba%ce%b7%cf%83-%cf%83%ce%b1%cf%82-%cf%80/
LOCATION:KAΦΕ RONDA
CATEGORIES:ΠΑΡΟΥΣΙΑΣΗ
ATTACH;FMTTYPE=image/jpeg:https://www.teedod.gr/wp-content/uploads/2020/01/82463042_1393424997516312_750548081891606528_n.jpg
END:VEVENT
END:VCALENDAR