BEGIN:VCALENDAR
VERSION:2.0
PRODID:-//ΤΕΕ Δωδεκανήσου - ECPv4.9.8//NONSGML v1.0//EN
CALSCALE:GREGORIAN
METHOD:PUBLISH
X-WR-CALNAME:ΤΕΕ Δωδεκανήσου
X-ORIGINAL-URL:https://www.teedod.gr
X-WR-CALDESC:ΤΕΕ Δωδεκανήσου - Εκδηλώσεις
BEGIN:VTIMEZONE
TZID:UTC
BEGIN:STANDARD
TZOFFSETFROM:+0000
TZOFFSETTO:+0000
TZNAME:UTC
DTSTART:20210101T000000
END:STANDARD
END:VTIMEZONE
BEGIN:VEVENT
DTSTART;TZID="UTC":20211002T190000
DTEND;TZID="UTC":20211002T220000
DTSTAMP:20260422T094844
CREATED:20211001T063032Z
LAST-MODIFIED:20211001T063032Z
UID:5755-1633201200-1633212000@www.teedod.gr
SUMMARY:Παρουσίαση βιβλίων του κ. Αγαπητού Ξάνθη
DESCRIPTION:Οι εκδόσεις Παπαζήση και ο συγγραφέας Αγαπητός Ξάνθης έχουν τη χαρά να σας προσκαλέσουν στην παρουσίαση δύο βιβλίων: \n\nΗ τουριστική ανάπτυξη και τα ηθικά διλήμματά της. Μια εφαρμογή στο νησί των Ιπποτών. Θέση – Αντίθεση – Πρόταση\nΗ επανάσταση του ωραίου. Από την πράξη στην επιτυχία.\n\nΗ εκδήλωση θα πραγματοποιηθεί στο «Ρόδον» το Σάββατο 2 Οκτωβρίου 2021 και ώρα 7.00μ.μ. \nΧαιρετισμός: Γιάννης Σεϊμένης\, Κοσμήτορας της Σχολής Ανθρωπιστικών Σπουδών της μονάδας Ρόδου του Πανεπιστημίου Αιγαίου \nΟμιλητές: \nΠέρσα Φώκιαλη\, Ομότιμη καθηγήτρια του Τ.Ε.Π.Α.Ε.Σ. του Πανεπιστημίου Αιγαίου \nΜανώλης Μαρκόπουλος\, Πρόεδρος της Ένωσης Ξενοδόχων Ρόδου \nΤη συζήτηση συντονίζει ο Σωτήρης Ντάλης\, αν. Καθηγητής του Τμήματος Μεσογειακών Σπουδών του Πανεπιστημίου Αιγαίου και Δ/ντής της σειράς: Διεθνής και Ευρωπαϊκή Πολιτική. \nΗ εκδήλωση γίνεται με την ευγενική υποστήριξη του ΔΟΠΑΡ και της Ένωσης Ξενοδόχων Ρόδου. \nΘα τηρηθούν όλα τα ενδεικνυόμενα μέτρα υγιεινής και ασφάλειας. \nΗ παρουσία σας θα μας τιμήσει. \n
URL:https://www.teedod.gr/event/%cf%80%ce%b1%cf%81%ce%bf%cf%85%cf%83%ce%af%ce%b1%cf%83%ce%b7-%ce%b2%ce%b9%ce%b2%ce%bb%ce%af%cf%89%ce%bd-%cf%84%ce%bf%cf%85-%ce%ba-%ce%b1%ce%b3%ce%b1%cf%80%ce%b7%cf%84%ce%bf%cf%8d-%ce%be%ce%ac%ce%bd/2021-10-02/
LOCATION:Κινηματοθέατρο Ρόδον\, Ρόδος\, Δωδεκανήσου\, Ελλάδα
CATEGORIES:ΠΑΡΟΥΣΙΑΣΗ
ATTACH;FMTTYPE=image/png:https://www.teedod.gr/wp-content/uploads/2021/10/prosklisi_parousiasis_vivliou.png
END:VEVENT
END:VCALENDAR