BEGIN:VCALENDAR
VERSION:2.0
PRODID:-//ΤΕΕ Δωδεκανήσου - ECPv4.9.8//NONSGML v1.0//EN
CALSCALE:GREGORIAN
METHOD:PUBLISH
X-WR-CALNAME:ΤΕΕ Δωδεκανήσου
X-ORIGINAL-URL:https://www.teedod.gr
X-WR-CALDESC:ΤΕΕ Δωδεκανήσου - Εκδηλώσεις
BEGIN:VTIMEZONE
TZID:UTC
BEGIN:STANDARD
TZOFFSETFROM:+0000
TZOFFSETTO:+0000
TZNAME:UTC
DTSTART:20200101T000000
END:STANDARD
END:VTIMEZONE
BEGIN:VEVENT
DTSTART;TZID="UTC":20200127T200000
DTEND;TZID="UTC":20200127T210000
DTSTAMP:20260422T195008
CREATED:20200120T085353Z
LAST-MODIFIED:20200120T085353Z
UID:4770-1580155200-1580158800@www.teedod.gr
SUMMARY:Πρόσκληση για Κοπή Πίτας του ΤΕΕ Π.Τ Δωδεκανήσου 2020
DESCRIPTION:Το ΤΕΕ Π.Τ. Δωδεκανήσου σας εύχεται καλή χρονιά και σας προσκαλεί στην εκδήλωση για την κοπή της Πρωτοχρονιάτικης Πίτας\, \nτην Δευτέρα 27 Ιανουαρίου 2020 και ώρα 20.00\,\nστο Naval στη Νέα Μαρίνα\, \nΑυστραλίας 1\, στη Ρόδο. \n
URL:https://www.teedod.gr/event/%cf%80%cf%81%cf%8c%cf%83%ce%ba%ce%bb%ce%b7%cf%83%ce%b7-%ce%b3%ce%b9%ce%b1-%ce%ba%ce%bf%cf%80%ce%ae-%cf%80%ce%af%cf%84%ce%b1%cf%82-%cf%84%ce%bf%cf%85-%cf%84%ce%b5%ce%b5-%cf%80-%cf%84-%ce%b4%cf%89%ce%b4/
LOCATION:NAVAL\, Νέα Μαρίνα\, Αυστραλίας 1\, Ρόδος
CATEGORIES:ΚΟΙΝΩΝΙΚΑ
ATTACH;FMTTYPE=image/jpeg:https://www.teedod.gr/wp-content/uploads/2020/01/unnamed-2-1.jpg
END:VEVENT
END:VCALENDAR