BEGIN:VCALENDAR
VERSION:2.0
PRODID:-//ΤΕΕ Δωδεκανήσου - ECPv4.9.8//NONSGML v1.0//EN
CALSCALE:GREGORIAN
METHOD:PUBLISH
X-WR-CALNAME:ΤΕΕ Δωδεκανήσου
X-ORIGINAL-URL:https://www.teedod.gr
X-WR-CALDESC:ΤΕΕ Δωδεκανήσου - Εκδηλώσεις
BEGIN:VTIMEZONE
TZID:Europe/Athens
BEGIN:DAYLIGHT
TZOFFSETFROM:+0200
TZOFFSETTO:+0300
TZNAME:EEST
DTSTART:20170326T010000
END:DAYLIGHT
BEGIN:STANDARD
TZOFFSETFROM:+0300
TZOFFSETTO:+0200
TZNAME:EET
DTSTART:20171029T010000
END:STANDARD
END:VTIMEZONE
BEGIN:VEVENT
DTSTART;TZID="Europe/Athens":20171101T180000
DTEND;TZID="Europe/Athens":20171103T180000
DTSTAMP:20260425T152353
CREATED:20171101T121323Z
LAST-MODIFIED:20180124T133856Z
UID:149-1509559200-1509732000@www.teedod.gr
SUMMARY:Το ΤΕΕ Τμήμα Δωδεκανήσου και η εταιρεία ΔΟΜΟΧΗΜΙΚΗ Α.Β.Ε.Ε. – NOVAMIX\, διοργανώνουν Εκπαιδευτικό Σεμινάριο
DESCRIPTION:Το ΤΕΕ Τμήμα Δωδεκανήσου και η εταιρεία ΔΟΜΟΧΗΜΙΚΗ Α.Β.Ε.Ε. – NOVAMIX\, διοργανώνουν Εκπαιδευτικό Σεμινάριο την Τετάρτη 01/11/2017 στη Ρόδο και την Παρασκευή 03/11/2017 στην Κω με τα εξής θέματα: \n1. Συστήματα επισκευής οπλισμένου σκυροδέματος\n2. Συστήματα θερμοπρόσοψης\n3. Υποστρώματα & διακοσμητικές επιστρώσεις \nΑναλυτικά: Στη Ρόδο στις 18.00μ.μ\, θα πραγματοποιηθεί στο ΤEE τμ Δωδεκανήσου\, Γρηγορίου Λαμπράκη 8.\nΣτην Κω\, στις 18.00μ.μ\, θα πραγματοποιηθεί στην αίθουσα του ΕΒΕΔ στην Κω\, Βενιζέλου Ελευθερίου 10. \n  \n
URL:https://www.teedod.gr/event/%cf%84%ce%b5%ce%b5-%ce%ba%ce%b1%ce%b9-novamix/
LOCATION:Επιμελητήριο Δωδεκανήσου\, ΕΒΕΔ\, Γρηγορίου Λαμπράκη 8\, Ρόδος
CATEGORIES:ΣΕΜΙΝΑΡΙΟ
ATTACH;FMTTYPE=image/jpeg:https://www.teedod.gr/wp-content/uploads/2017/12/ΠΡΟΣΚΛΗΣΗ-NOVAMIX-ΡΟΔΟΣ-ΚΩ-1.jpg
END:VEVENT
END:VCALENDAR