BEGIN:VCALENDAR
VERSION:2.0
PRODID:-//ΤΕΕ Δωδεκανήσου - ECPv4.9.8//NONSGML v1.0//EN
CALSCALE:GREGORIAN
METHOD:PUBLISH
X-WR-CALNAME:ΤΕΕ Δωδεκανήσου
X-ORIGINAL-URL:https://www.teedod.gr
X-WR-CALDESC:ΤΕΕ Δωδεκανήσου - Εκδηλώσεις
BEGIN:VTIMEZONE
TZID:UTC
BEGIN:STANDARD
TZOFFSETFROM:+0000
TZOFFSETTO:+0000
TZNAME:UTC
DTSTART:20180101T000000
END:STANDARD
END:VTIMEZONE
BEGIN:VEVENT
DTSTART;TZID="UTC":20180214T180000
DTEND;TZID="UTC":20180214T180000
DTSTAMP:20260425T012812
CREATED:20180212T095537Z
LAST-MODIFIED:20180216T101932Z
UID:1278-1518631200-1518631200@www.teedod.gr
SUMMARY:Τεχνικό σεμινάριο στην Κω: Η Ευρωπαϊκή Νομοθεσία στο Κτιριακό Τομέα
DESCRIPTION:Το ΤΕΕ τμ. Δωδεκανήσου και η Μ.Ε. Κω σε συνεργασία με τον όμιλο YTONG-THRAKON διοργανώνουν Τεχνικό Σεμινάριο την Τετάρτη 14 Φεβρουαρίου 2018\, στις 18:00\, στο παράρτημα του Επιμελητηρίου (ΕΒΕΔ) στην Κω\, με θέμα: \n«Η Ευρωπαϊκή Νομοθεσία στον Κτιριακό Τομέα\, Συστήματα ενεργειακής αναβάθμισης Κτιρίων – Παθητικά Συστήματα – ΚΕΝΑΚ» . \nΣτο σεμινάρο θα συζητηθούν τα παρακάτω θέματα: \n\nΕυρωπαϊκη νομοθεσία στον κτιριακό τομέα.\nΣυστήματα ενεργειακής αναβάθμισης κτιρίων.\nΚατανόηση εφαρμογής συστήματος θερμομόνωσης\nΠαρουσίαση σύγχρονου τρόπου δόμησης με YTONG\n\n  \n \n
URL:https://www.teedod.gr/event/%cf%84%ce%b5%cf%87%ce%bd%ce%b9%ce%ba%cf%8c-%cf%83%ce%b5%ce%bc%ce%b9%ce%bd%ce%ac%cf%81%ce%b9%ce%bf-%cf%83%cf%84%ce%b7%ce%bd-%ce%ba%cf%89-%ce%b7-%ce%b5%cf%85%cf%81%cf%89%cf%80%ce%b1%cf%8a%ce%ba%ce%ae/
LOCATION:Επιμελητηρίου (ΕΒΕΔ)\, Κως
CATEGORIES:ΣΕΜΙΝΑΡΙΟ
ATTACH;FMTTYPE=image/png:https://www.teedod.gr/wp-content/uploads/2018/02/unnamed.png
END:VEVENT
END:VCALENDAR