BEGIN:VCALENDAR
VERSION:2.0
PRODID:-//ΤΕΕ Δωδεκανήσου - ECPv4.9.8//NONSGML v1.0//EN
CALSCALE:GREGORIAN
METHOD:PUBLISH
X-WR-CALNAME:ΤΕΕ Δωδεκανήσου
X-ORIGINAL-URL:https://www.teedod.gr
X-WR-CALDESC:ΤΕΕ Δωδεκανήσου - Εκδηλώσεις
BEGIN:VTIMEZONE
TZID:UTC
BEGIN:STANDARD
TZOFFSETFROM:+0000
TZOFFSETTO:+0000
TZNAME:UTC
DTSTART:20210101T000000
END:STANDARD
END:VTIMEZONE
BEGIN:VEVENT
DTSTART;TZID="UTC":20210120T090000
DTEND;TZID="UTC":20210120T130000
DTSTAMP:20260422T110943
CREATED:20210118T123026Z
LAST-MODIFIED:20210120T120652Z
UID:5446-1611133200-1611147600@www.teedod.gr
SUMMARY:Το ΤΕΕ Δωδεκανήσου διοργανώνει εθελοντική αιμοδοσία για τις ανάγκες του Γενικού Νοσοκομείου Ρόδου
DESCRIPTION:Το ΤΕΕ Δωδεκανήσου στα πλαίσια της εξωστρέφειας και της κοινωνικής προσφοράς\, διοργανώνει εθελοντική αιμοδοσία για τις ανάγκες του Γενικού Νοσοκομείου Ρόδου \nτην Τετάρτη 20 Ιανουαρίου 2021 και ώρα 9.00 έως 13.00\, \nστο κτήριο ΤΕΕ Δωδεκανήσου\, \nεπί της οδού Μητροπόλεως 4 στη Ρόδο. \n
URL:https://www.teedod.gr/event/%cf%84%ce%bf-%cf%84%ce%b5%ce%b5-%ce%b4%cf%89%ce%b4%ce%b5%ce%ba%ce%b1%ce%bd%ce%ae%cf%83%ce%bf%cf%85-%ce%b4%ce%b9%ce%bf%cf%81%ce%b3%ce%b1%ce%bd%cf%8e%ce%bd%ce%b5%ce%b9-%ce%b5%ce%b8%ce%b5%ce%bb%ce%bf/
LOCATION:ΤΕΕ Δωδεκανήσου\, Μητροπόλεως 4\, Ρόδος
CATEGORIES:ΚΟΙΝΩΝΙΚΑ
ATTACH;FMTTYPE=image/jpeg:https://www.teedod.gr/wp-content/uploads/2021/01/139888235_240780160953153_3753525572463246299_n.jpg
END:VEVENT
END:VCALENDAR