BEGIN:VCALENDAR
VERSION:2.0
PRODID:-//ΤΕΕ Δωδεκανήσου - ECPv4.9.8//NONSGML v1.0//EN
CALSCALE:GREGORIAN
METHOD:PUBLISH
X-WR-CALNAME:ΤΕΕ Δωδεκανήσου
X-ORIGINAL-URL:https://www.teedod.gr
X-WR-CALDESC:ΤΕΕ Δωδεκανήσου - Εκδηλώσεις
BEGIN:VTIMEZONE
TZID:UTC
BEGIN:STANDARD
TZOFFSETFROM:+0000
TZOFFSETTO:+0000
TZNAME:UTC
DTSTART:20190101T000000
END:STANDARD
END:VTIMEZONE
BEGIN:VEVENT
DTSTART;TZID="UTC":20191216T090000
DTEND;TZID="UTC":20191216T130000
DTSTAMP:20260422T221709
CREATED:20191204T091631Z
LAST-MODIFIED:20191204T091631Z
UID:4576-1576486800-1576501200@www.teedod.gr
SUMMARY:Το ΤΕΕ Δωδεκανήσου στα πλαίσια της εξωστρέφειας και της κοινωνικής προσφοράς\, διοργανώνει εθελοντική αιμοδοσία για τις ανάγκες του Γενικού Νοσοκομείου Ρόδου
DESCRIPTION:Το ΤΕΕ Δωδεκανήσου στα πλαίσια της εξωστρέφειας και της κοινωνικής προσφοράς\, διοργανώνει εθελοντική αιμοδοσία για τις ανάγκες του Γενικού Νοσοκομείου Ρόδου\, \nτην Δευτέρα 16 Δεκεμβρίου 2019 και ώρα 9.00 έως 13.00\, \nστο κτήριο ΤΕΕ Δωδεκανήσου\, \nεπί της οδού Μητροπόλεως 4 στη Ρόδο. \nΣυνδιοργανωτές στην εκδήλωση: \n• 95 Α.Δ.Τ.Ε. \n• Σύλλογος Εθελοντών Αιμοδοτών Ρόδου «Άγιος Εφραίμ» \n• Ένωση Καλυμνίων Ρόδου «Ο Εν καλύμνω Άγιος Σάββας» \n
URL:https://www.teedod.gr/event/%cf%84%ce%bf-%cf%84%ce%b5%ce%b5-%ce%b4%cf%89%ce%b4%ce%b5%ce%ba%ce%b1%ce%bd%ce%ae%cf%83%ce%bf%cf%85-%cf%83%cf%84%ce%b1-%cf%80%ce%bb%ce%b1%ce%af%cf%83%ce%b9%ce%b1-%cf%84%ce%b7%cf%82-%ce%b5%ce%be%cf%89/
LOCATION:ΤΕΕ Δωδεκανήσου\, Μητροπόλεως 4\, Ρόδος
CATEGORIES:ΚΟΙΝΩΝΙΚΑ
ATTACH;FMTTYPE=image/png:https://www.teedod.gr/wp-content/uploads/2019/12/75210357_1336894379836041_362362598307397632_o-copy.png
END:VEVENT
END:VCALENDAR