BEGIN:VCALENDAR
VERSION:2.0
PRODID:-//ΤΕΕ Δωδεκανήσου - ECPv4.9.8//NONSGML v1.0//EN
CALSCALE:GREGORIAN
METHOD:PUBLISH
X-WR-CALNAME:ΤΕΕ Δωδεκανήσου
X-ORIGINAL-URL:https://www.teedod.gr
X-WR-CALDESC:ΤΕΕ Δωδεκανήσου - Εκδηλώσεις
BEGIN:VTIMEZONE
TZID:UTC
BEGIN:STANDARD
TZOFFSETFROM:+0000
TZOFFSETTO:+0000
TZNAME:UTC
DTSTART:20190101T000000
END:STANDARD
END:VTIMEZONE
BEGIN:VEVENT
DTSTART;TZID="UTC":20190619T090000
DTEND;TZID="UTC":20190619T130000
DTSTAMP:20260423T112942
CREATED:20190604T075337Z
LAST-MODIFIED:20190604T075406Z
UID:3395-1560934800-1560949200@www.teedod.gr
SUMMARY:Το ΤΕΕ Δωδεκανήσου στo πλαίσιο της κοινωνικής του προσφοράς διοργανώνει εθελοντική αιμοδοσία
DESCRIPTION:Το ΤΕΕ Δωδεκανήσου στο πλαίσιο της κοινωνικής του προσφοράς διοργανώνει εθελοντική αιμοδοσία για τις ανάγκες του Γενικού Νοσοκομείου Ρόδου\, \nτην Τετάρτη 19 Ιουνίου 2019 και ώρα 9.00 έως 13.00\, \nστο κτήριο του επί της οδού Μητροπόλεως 4\, στην Ρόδο. \nΣυνδιοργανωτές στην εκδήλωση αυτή είναι οι : 95 Α.Δ.Τ.Ε. \, το Τμήμα ΑΧΕΠΑ Ρόδου και ο Σύλλογος Εθελοντών Αιμοδοτών Ρόδου «Άγιος Εφραίμ». \nΗ συμπαράσταση στον δύσκολο αγώνα της αιμοδοσίας είναι καθήκον όλων. \n
URL:https://www.teedod.gr/event/%cf%84%ce%bf-%cf%84%ce%b5%ce%b5-%ce%b4%cf%89%ce%b4%ce%b5%ce%ba%ce%b1%ce%bd%ce%ae%cf%83%ce%bf%cf%85-%cf%83%cf%84o-%cf%80%ce%bb%ce%b1%ce%af%cf%83%ce%b9%ce%bf-%cf%84%ce%b7%cf%82-%ce%ba%ce%bf%ce%b9%ce%bd/
LOCATION:ΤΕΕ Δωδεκανήσου\, Μητροπόλεως 4\, Ρόδος
CATEGORIES:ΚΟΙΝΩΝΙΚΑ
ATTACH;FMTTYPE=image/png:https://www.teedod.gr/wp-content/uploads/2019/06/61907837_1192721700919977_4943224937826484224_n-copy-1.png
END:VEVENT
END:VCALENDAR