BEGIN:VCALENDAR
VERSION:2.0
PRODID:-//ΤΕΕ Δωδεκανήσου - ECPv4.9.8//NONSGML v1.0//EN
CALSCALE:GREGORIAN
METHOD:PUBLISH
X-WR-CALNAME:ΤΕΕ Δωδεκανήσου
X-ORIGINAL-URL:https://www.teedod.gr
X-WR-CALDESC:ΤΕΕ Δωδεκανήσου - Εκδηλώσεις
BEGIN:VTIMEZONE
TZID:UTC
BEGIN:STANDARD
TZOFFSETFROM:+0000
TZOFFSETTO:+0000
TZNAME:UTC
DTSTART:20190101T000000
END:STANDARD
END:VTIMEZONE
BEGIN:VEVENT
DTSTART;TZID="UTC":20190925T183000
DTEND;TZID="UTC":20190925T200000
DTSTAMP:20260423T055709
CREATED:20190919T101046Z
LAST-MODIFIED:20190919T101046Z
UID:3950-1569436200-1569441600@www.teedod.gr
SUMMARY:Το ΤΕΕ Π.Τ. Δωδεκανήσου και η Sika Hellas ΑΒΕΕ σε συνεργασία με το κατάστημα ΤΡΙΚΙΛΗΣ διοργανώνουν εκπαιδευτικό σεμινάριο
DESCRIPTION:Το ΤΕΕ Π.Τ. Δωδεκανήσου και η Sika Hellas ΑΒΕΕ σε συνεργασία με το κατάστημα ΤΡΙΚΙΛΗΣ διοργανώνουν εκπαιδευτικό σεμινάριο με θέμα: \n• Εισαγωγή στο φαινόμενο της διάβρωσης κατασκευών Ω.Σ.\n• Συστήματα Επισκευής και Προστασία Sika έναντι διαβρωτικών συνθηκών σε παράκτιες κατασκευές. \nτην Τετάρτη 25 Σεπτεμβρίου 2019 και ώρα 18:30 \nστην Αίθουσα Εκδηλώσεων του ΤΕΕ Δωδεκανήσου \nΜητροπόλεως 4\, Ρόδος \n
URL:https://www.teedod.gr/event/%cf%84%ce%bf-%cf%84%ce%b5%ce%b5-%cf%80-%cf%84-%ce%b4%cf%89%ce%b4%ce%b5%ce%ba%ce%b1%ce%bd%ce%ae%cf%83%ce%bf%cf%85-%ce%ba%ce%b1%ce%b9-%ce%b7-sika-hellas-%ce%b1%ce%b2%ce%b5%ce%b5-%cf%83%ce%b5-%cf%83/
LOCATION:ΤΕΕ Δωδεκανήσου\, Μητροπόλεως 4\, Ρόδος
CATEGORIES:ΣΕΜΙΝΑΡΙΟ
ATTACH;FMTTYPE=image/jpeg:https://www.teedod.gr/wp-content/uploads/2019/09/site1.jpg
END:VEVENT
END:VCALENDAR