BEGIN:VCALENDAR
VERSION:2.0
PRODID:-//ΤΕΕ Δωδεκανήσου - ECPv4.9.8//NONSGML v1.0//EN
CALSCALE:GREGORIAN
METHOD:PUBLISH
X-WR-CALNAME:ΤΕΕ Δωδεκανήσου
X-ORIGINAL-URL:https://www.teedod.gr
X-WR-CALDESC:ΤΕΕ Δωδεκανήσου - Εκδηλώσεις
BEGIN:VTIMEZONE
TZID:UTC
BEGIN:STANDARD
TZOFFSETFROM:+0000
TZOFFSETTO:+0000
TZNAME:UTC
DTSTART:20190101T000000
END:STANDARD
END:VTIMEZONE
BEGIN:VEVENT
DTSTART;TZID="UTC":20190905T080000
DTEND;TZID="UTC":20190907T170000
DTSTAMP:20260423T112604
CREATED:20190827T105028Z
LAST-MODIFIED:20190827T105236Z
UID:3593-1567670400-1567875600@www.teedod.gr
SUMMARY:Το Τεχνικό Επιμελητήριο Ελλάδας και το Ελληνικό Τμήμα Αντισεισμικής Μηχανικής συνδιοργανώνουν το 4ο Πανελλήνιο Συνέδριο Αντισεισμικής Μηχανικής και Τεχνικής Σεισμολογίας
DESCRIPTION:Με αφορμή τη συμπλήρωση 20 ετών από τον καταστροφικό σεισμό της Αθήνας του 1999 το Τεχνικό Επιμελητήριο Ελλάδας και το Ελληνικό Τμήμα Αντισεισμικής Μηχανικής συνδιοργανώνουν το 4ο Πανελλήνιο Συνέδριο Αντισεισμικής Μηχανικής και Τεχνικής Σεισμολογίας \nμεταξύ 5-7 Σεπτεμβρίου 2019\, \nστις εγκαταστάσεις της Hellexpo στο Μαρούσι\, στην Αθήνα. \nΤο Συνέδριο θα αποτελέσει μια πλατφόρμα ουσιαστικής ανταλλαγής απόψεων\, γνώσεων και εμπειριών για την αποτελεσματική\, εκ μέρους της Πολιτείας\, διαχείριση του κρίσιμου ζητήματος της Αντισεισμικής Προστασίας. \nΤο συνέδριο τελεί υπό την αιγίδα:\no Εθνικού Μετσόβιου Πολυτεχνείου (ΕΜΠ)\no Συλλόγου Πολιτικών Μηχανικών Ελλάδας (ΣΠΜΕ)\no Επιστημονικού Τεχνικού Επιμελητηρίου Κύπρου (ΕΤΕΚ)\no Συλλόγου Πολιτικών Μηχανικών Κύπρου (ΣΠΟΛΜΗΚ)\no Ελληνικού Τμήματος Σκυροδέματος (ΕΤΣ) \n
URL:https://www.teedod.gr/event/3593/
LOCATION:Hellexpo στο Μαρούσι\, ΑΘΗΝΑ
CATEGORIES:ΣΥΝΕΔΡΙΟ
ATTACH;FMTTYPE=image/png:https://www.teedod.gr/wp-content/uploads/2019/08/51786609_1316668278472784_2085202297175932928_o-copy.png
END:VEVENT
END:VCALENDAR