BEGIN:VCALENDAR
VERSION:2.0
PRODID:-//ΤΕΕ Δωδεκανήσου - ECPv4.9.8//NONSGML v1.0//EN
CALSCALE:GREGORIAN
METHOD:PUBLISH
X-WR-CALNAME:ΤΕΕ Δωδεκανήσου
X-ORIGINAL-URL:https://www.teedod.gr
X-WR-CALDESC:ΤΕΕ Δωδεκανήσου - Εκδηλώσεις
BEGIN:VTIMEZONE
TZID:UTC
BEGIN:STANDARD
TZOFFSETFROM:+0000
TZOFFSETTO:+0000
TZNAME:UTC
DTSTART:20180101T000000
END:STANDARD
END:VTIMEZONE
BEGIN:VEVENT
DTSTART;TZID="UTC":20181020T163000
DTEND;TZID="UTC":20181021T183000
DTSTAMP:20260424T132931
CREATED:20181018T064916Z
LAST-MODIFIED:20181020T065133Z
UID:2318-1540053000-1540146600@www.teedod.gr
SUMMARY:3o Συνέδριο Αρχιτεκτονικής και Τουρισμού
DESCRIPTION:Το ΤΕΕ τμ. Δωδεκανήσου σας προσκαλεί στο 3ο Συνέδριο Αρχιτεκτονικής και Τουρισμού στις 20 & 21 Οκτωβρίου\, στο ξενοδοχείο Rodos Palace\, που πραγματοποιείται σε συνδιοργάνωση με το Τεχνικό Επιμελητήριο Ελλάδος και τον Σύλλογο Αρχιτεκτόνων Δωδεκανήσου. \nΓια άλλη μία χρονιά διακεκριμένοι προσκεκλημένοι ομιλητές\, με πλούσια και ενδιαφέρουσα θεματολογία\, θα εμβαθύνουν στην διάδραση των εννοιών της Αρχιτεκτονικής και του Τουρισμού. \nΤο συνέδριο είναι ανοιχτό στο κοινό και η είσοδος είναι ελεύθερη. \nΠαρακάτω θα βρείτε το πρόγραμμα του Συνεδρίου \n \n  \n
URL:https://www.teedod.gr/event/3o-%cf%83%cf%85%ce%bd%ce%ad%ce%b4%cf%81%ce%b9%ce%bf-%ce%b1%cf%81%cf%87%ce%b9%cf%84%ce%b5%ce%ba%cf%84%ce%bf%ce%bd%ce%b9%ce%ba%ce%ae%cf%82-%ce%ba%ce%b1%ce%b9-%cf%84%ce%bf%cf%85%cf%81%ce%b9%cf%83%ce%bc/
LOCATION:Ξενοδοχείο Rodos Palace.
CATEGORIES:ΣΥΝΕΔΡΙΟ
ATTACH;FMTTYPE=image/jpeg:https://www.teedod.gr/wp-content/uploads/2018/10/Draft_01_Invitation-01-01-02.jpg
END:VEVENT
END:VCALENDAR