BEGIN:VCALENDAR
VERSION:2.0
PRODID:-//ΤΕΕ Δωδεκανήσου - ECPv4.9.8//NONSGML v1.0//EN
CALSCALE:GREGORIAN
METHOD:PUBLISH
X-WR-CALNAME:ΤΕΕ Δωδεκανήσου
X-ORIGINAL-URL:https://www.teedod.gr
X-WR-CALDESC:ΤΕΕ Δωδεκανήσου - Εκδηλώσεις
BEGIN:VTIMEZONE
TZID:UTC
BEGIN:STANDARD
TZOFFSETFROM:+0000
TZOFFSETTO:+0000
TZNAME:UTC
DTSTART:20180101T000000
END:STANDARD
END:VTIMEZONE
BEGIN:VEVENT
DTSTART;TZID="UTC":20181024T180000
DTEND;TZID="UTC":20181024T180000
DTSTAMP:20260424T121720
CREATED:20181023T143242Z
LAST-MODIFIED:20181023T143633Z
UID:2424-1540404000-1540404000@www.teedod.gr
SUMMARY:Eνημερωτική εσπερίδα με θέμα "Τα χημικά προϊόντα στην καθημερινή ζωή"
DESCRIPTION:Το ΤΕΕ τμ. Δωδεκανήσου σας ενημερώνει ότι η Χημική Υπηρεσία Αιγαίου και το Επιμελητήριο Δωδεκανήσου διοργανώνουν ενημερωτική εσπερίδα με θέμα «Τα χημικά προϊόντα στην καθημερινή ζωή»\, την Τετάρτη 24 Οκτωβρίου 2018 στις 18:00\, στην Αίθουσα του Επιμελητηρίου Δωδεκανήσου (Γρηγορίου Λαμπράκη 8\, Ρόδος). Παρακάτω θα βρείτε την πρόσκληση και την αφίσα της εσπερίδας. \n \n \n
URL:https://www.teedod.gr/event/e%ce%bd%ce%b7%ce%bc%ce%b5%cf%81%cf%89%cf%84%ce%b9%ce%ba%ce%ae-%ce%b5%cf%83%cf%80%ce%b5%cf%81%ce%af%ce%b4%ce%b1-%ce%bc%ce%b5-%ce%b8%ce%ad%ce%bc%ce%b1-%cf%84%ce%b1-%cf%87%ce%b7%ce%bc%ce%b9%ce%ba%ce%ac/
LOCATION:Επιμελητήριο Δωδεκανήσου\, ΕΒΕΔ\, Γρηγορίου Λαμπράκη 8\, Ρόδος
CATEGORIES:ΕΣΠΕΡΙΔΑ
ATTACH;FMTTYPE=image/jpeg:https://www.teedod.gr/wp-content/uploads/2018/10/ximika_proionta_afisaxc.jpg
END:VEVENT
END:VCALENDAR