BEGIN:VCALENDAR
VERSION:2.0
PRODID:-//ΤΕΕ Δωδεκανήσου - ECPv4.9.8//NONSGML v1.0//EN
CALSCALE:GREGORIAN
METHOD:PUBLISH
X-WR-CALNAME:ΤΕΕ Δωδεκανήσου
X-ORIGINAL-URL:https://www.teedod.gr
X-WR-CALDESC:ΤΕΕ Δωδεκανήσου - Εκδηλώσεις
BEGIN:VTIMEZONE
TZID:UTC
BEGIN:STANDARD
TZOFFSETFROM:+0000
TZOFFSETTO:+0000
TZNAME:UTC
DTSTART:20190101T000000
END:STANDARD
END:VTIMEZONE
BEGIN:VEVENT
DTSTART;TZID="UTC":20190313T170000
DTEND;TZID="UTC":20190313T170000
DTSTAMP:20260423T211926
CREATED:20190313T084746Z
LAST-MODIFIED:20190313T084746Z
UID:2963-1552496400-1552496400@www.teedod.gr
SUMMARY:H Μapei\, το ΤΕΕ Π.Τ. Δωδεκανήσου και η Μ.Ε. Κω\, συνδιοργανώνουν σεμινάριο με θέμα: “Συστήματα της Mapei για την επισκευή και προστασία του σκυροδέματος κατα ΕN 1504”
DESCRIPTION:H Μapei\, το ΤΕΕ Π.Τ. Δωδεκανήσου και η Μ.Ε. Κω συνδιοργανώνουν σεμινάριο με θέμα: \n“Συστήματα της Mapei για την επισκευή και προστασία του σκυροδέματος κατα ΕN 1504” \nτην Τετάρτη 13 Μαρτίου στις 17:00 \nστο ξενοδοχείο Blue Lagoon City Hotel\, στην Κω \n
URL:https://www.teedod.gr/event/h-%ce%bcapei-%cf%84%ce%bf-%cf%84%ce%b5%ce%b5-%cf%80-%cf%84-%ce%b4%cf%89%ce%b4%ce%b5%ce%ba%ce%b1%ce%bd%ce%ae%cf%83%ce%bf%cf%85-%ce%ba%ce%b1%ce%b9-%ce%b7-%ce%bc-%ce%b5-%ce%ba%cf%89-%cf%83%cf%85/
LOCATION:ξενοδοχείο Blue Lagoon City Hotel\, ΚΩΣ\, Ελλάδα
CATEGORIES:ΣΕΜΙΝΑΡΙΟ
ATTACH;FMTTYPE=image/jpeg:https://www.teedod.gr/wp-content/uploads/2019/03/53807539_1137634719762009_6323031714796929024_o-2.jpg
END:VEVENT
END:VCALENDAR